

BEGIN:VCALENDAR
VERSION:2.0
PRODID:-//eventon.com NONSGML v1.0//EN
BEGIN:VEVENT
UID:69eb2d25b947a
DTSTAMP:20260424T134317
DTSTART:20231202T030000Z
DTEND:20231202T040000Z
TZID:Pacific/Midway
LOCATION:YouTube 
SUMMARY:«Пациенттің жасына байланысты қышымасы бар пациенттерді басқарудағы айырмашылықтар мен ұқсастықтар» вебинары
DESCRIPTION: Ғылыми жетекші: Масальский Сергей Сергеевич – м.ғ.к.\,  аллерголог-иммунолог дәрігер\,  РБАИҚ (АДАИР) мен «Педиатриядағы аллергология және иммунология» журналының жауапты хатшысы\,  Аллергология және иммунология ҒККО бас дәрігерінің ғылыми жұмыс жөніндегі орынбасары\,  Мәскеу қ. Қышыма – дәрігердің қабылдауында жиі айтылатын шағым. Қышыманың себептері әртүрлі және көбінесе көп пәндік тәсілді қажет етеді. Бастапқы медициналық[..]\nhttps://olainfarm.mn/kk-kz/events/%d0%bf%d0%b0%d1%86%d0%b8%d0%b5%d0%bd%d1%82%d1%82%d1%96%d2%a3-%d0%b6%d0%b0%d1%81%d1%8b%d0%bd%d0%b0-%d0%b1%d0%b0%d0%b9%d0%bb%d0%b0%d0%bd%d1%8b%d1%81%d1%82%d1%8b-%d2%9b%d1%8b%d1%88%d1%8b%d0%bc/
URL:https://olainfarm.mn/kk-kz/events/%d0%bf%d0%b0%d1%86%d0%b8%d0%b5%d0%bd%d1%82%d1%82%d1%96%d2%a3-%d0%b6%d0%b0%d1%81%d1%8b%d0%bd%d0%b0-%d0%b1%d0%b0%d0%b9%d0%bb%d0%b0%d0%bd%d1%8b%d1%81%d1%82%d1%8b-%d2%9b%d1%8b%d1%88%d1%8b%d0%bc/
END:VEVENT
END:VCALENDAR